<?xml version="1.0" encoding="UTF-8"?>
<TileMap version="1.0.0" tilemapservice="https://warehouse.ausseabed.gov.au/geoserver/gwc/service/tms/1.0.0">
  <Title>Compilations Coverage Index</Title>
  <Abstract>&lt;div&gt;The AusSeabed Bathymetry Compilations Coverage Database contains polygon extents of bathymetry data acquisitions along with identifying attributes and contact details where the data is not held by Geoscience Australia. It is an important scientific resource that identifies data spanning coastal, continental shelf and deep sea locations. &lt;/div&gt;&lt;div&gt;&lt;br&gt;&lt;/div&gt;&lt;div&gt;This dataset is live and will continue to be augmented as coverage details are supplied from AusSeabed collaborators who wish to share their knowledge of data availability to the broader marine community. The database is updated regularly and is made available via the AusSeabed Marine Data Portal using OGC compliant web services. Compilations have been generated from one or more Survey/Data Acquisitions by a wide range of organisations and countries, both inside and outside Australia&apos;s marine jurisdiction, using multiple systems and for various applications. Compilation coverages are published where the polygon extents intersects with Australia&apos;s marine jurisdiction, including the Australian Antarctic Territory. Each polygon in the layer contains metadata describing compilation details. &lt;/div&gt;&lt;div&gt;Note that polygons may not be representative of the true survey extent due to the data gridding process. &lt;/div&gt;&lt;div&gt;&lt;br&gt;&lt;/div&gt;&lt;div&gt;Please contact us at ausseabed@ga.gov.au if you wish to contribute coverage information to the database.&lt;/div&gt;&lt;br&gt; http://pid.geoscience.gov.au/dataset/ga/148614</Abstract>
  <SRS>EPSG:4326</SRS>
  <BoundingBox minx="-180.0" miny="-90.0" maxx="180.0" maxy="90.0"/>
  <Origin x="-180.0" y="-90.0"/>
  <TileFormat width="256" height="256" mime-type="image/png" extension="png"/>
  <TileSets profile="global-geodetic">
    <TileSet href="https://warehouse.ausseabed.gov.au/geoserver/gwc/service/tms/1.0.0/ausseabed%3AMARINEDATAREGISTER_COMPILATIONS_INDEX@EPSG%3A4326@png/0" units-per-pixel="0.703125" order="0"/>
    <TileSet href="https://warehouse.ausseabed.gov.au/geoserver/gwc/service/tms/1.0.0/ausseabed%3AMARINEDATAREGISTER_COMPILATIONS_INDEX@EPSG%3A4326@png/1" units-per-pixel="0.3515625" order="1"/>
    <TileSet href="https://warehouse.ausseabed.gov.au/geoserver/gwc/service/tms/1.0.0/ausseabed%3AMARINEDATAREGISTER_COMPILATIONS_INDEX@EPSG%3A4326@png/2" units-per-pixel="0.17578125" order="2"/>
    <TileSet href="https://warehouse.ausseabed.gov.au/geoserver/gwc/service/tms/1.0.0/ausseabed%3AMARINEDATAREGISTER_COMPILATIONS_INDEX@EPSG%3A4326@png/3" units-per-pixel="0.087890625" order="3"/>
    <TileSet href="https://warehouse.ausseabed.gov.au/geoserver/gwc/service/tms/1.0.0/ausseabed%3AMARINEDATAREGISTER_COMPILATIONS_INDEX@EPSG%3A4326@png/4" units-per-pixel="0.0439453125" order="4"/>
    <TileSet href="https://warehouse.ausseabed.gov.au/geoserver/gwc/service/tms/1.0.0/ausseabed%3AMARINEDATAREGISTER_COMPILATIONS_INDEX@EPSG%3A4326@png/5" units-per-pixel="0.02197265625" order="5"/>
    <TileSet href="https://warehouse.ausseabed.gov.au/geoserver/gwc/service/tms/1.0.0/ausseabed%3AMARINEDATAREGISTER_COMPILATIONS_INDEX@EPSG%3A4326@png/6" units-per-pixel="0.010986328125" order="6"/>
    <TileSet href="https://warehouse.ausseabed.gov.au/geoserver/gwc/service/tms/1.0.0/ausseabed%3AMARINEDATAREGISTER_COMPILATIONS_INDEX@EPSG%3A4326@png/7" units-per-pixel="0.0054931640625" order="7"/>
    <TileSet href="https://warehouse.ausseabed.gov.au/geoserver/gwc/service/tms/1.0.0/ausseabed%3AMARINEDATAREGISTER_COMPILATIONS_INDEX@EPSG%3A4326@png/8" units-per-pixel="0.00274658203125" order="8"/>
    <TileSet href="https://warehouse.ausseabed.gov.au/geoserver/gwc/service/tms/1.0.0/ausseabed%3AMARINEDATAREGISTER_COMPILATIONS_INDEX@EPSG%3A4326@png/9" units-per-pixel="0.001373291015625" order="9"/>
    <TileSet href="https://warehouse.ausseabed.gov.au/geoserver/gwc/service/tms/1.0.0/ausseabed%3AMARINEDATAREGISTER_COMPILATIONS_INDEX@EPSG%3A4326@png/10" units-per-pixel="6.866455078125E-4" order="10"/>
    <TileSet href="https://warehouse.ausseabed.gov.au/geoserver/gwc/service/tms/1.0.0/ausseabed%3AMARINEDATAREGISTER_COMPILATIONS_INDEX@EPSG%3A4326@png/11" units-per-pixel="3.4332275390625E-4" order="11"/>
    <TileSet href="https://warehouse.ausseabed.gov.au/geoserver/gwc/service/tms/1.0.0/ausseabed%3AMARINEDATAREGISTER_COMPILATIONS_INDEX@EPSG%3A4326@png/12" units-per-pixel="1.71661376953125E-4" order="12"/>
    <TileSet href="https://warehouse.ausseabed.gov.au/geoserver/gwc/service/tms/1.0.0/ausseabed%3AMARINEDATAREGISTER_COMPILATIONS_INDEX@EPSG%3A4326@png/13" units-per-pixel="8.58306884765625E-5" order="13"/>
    <TileSet href="https://warehouse.ausseabed.gov.au/geoserver/gwc/service/tms/1.0.0/ausseabed%3AMARINEDATAREGISTER_COMPILATIONS_INDEX@EPSG%3A4326@png/14" units-per-pixel="4.291534423828125E-5" order="14"/>
    <TileSet href="https://warehouse.ausseabed.gov.au/geoserver/gwc/service/tms/1.0.0/ausseabed%3AMARINEDATAREGISTER_COMPILATIONS_INDEX@EPSG%3A4326@png/15" units-per-pixel="2.1457672119140625E-5" order="15"/>
    <TileSet href="https://warehouse.ausseabed.gov.au/geoserver/gwc/service/tms/1.0.0/ausseabed%3AMARINEDATAREGISTER_COMPILATIONS_INDEX@EPSG%3A4326@png/16" units-per-pixel="1.0728836059570312E-5" order="16"/>
    <TileSet href="https://warehouse.ausseabed.gov.au/geoserver/gwc/service/tms/1.0.0/ausseabed%3AMARINEDATAREGISTER_COMPILATIONS_INDEX@EPSG%3A4326@png/17" units-per-pixel="5.364418029785156E-6" order="17"/>
    <TileSet href="https://warehouse.ausseabed.gov.au/geoserver/gwc/service/tms/1.0.0/ausseabed%3AMARINEDATAREGISTER_COMPILATIONS_INDEX@EPSG%3A4326@png/18" units-per-pixel="2.682209014892578E-6" order="18"/>
    <TileSet href="https://warehouse.ausseabed.gov.au/geoserver/gwc/service/tms/1.0.0/ausseabed%3AMARINEDATAREGISTER_COMPILATIONS_INDEX@EPSG%3A4326@png/19" units-per-pixel="1.341104507446289E-6" order="19"/>
    <TileSet href="https://warehouse.ausseabed.gov.au/geoserver/gwc/service/tms/1.0.0/ausseabed%3AMARINEDATAREGISTER_COMPILATIONS_INDEX@EPSG%3A4326@png/20" units-per-pixel="6.705522537231445E-7" order="20"/>
    <TileSet href="https://warehouse.ausseabed.gov.au/geoserver/gwc/service/tms/1.0.0/ausseabed%3AMARINEDATAREGISTER_COMPILATIONS_INDEX@EPSG%3A4326@png/21" units-per-pixel="3.3527612686157227E-7" order="21"/>
  </TileSets>
</TileMap>